{
 "currentVersion": 10.51,
 "serviceDescription": "Ambiti amministrativi Provincia di Pavia",
 "mapName": "Layers",
 "description": "",
 "copyrightText": "",
 "supportsDynamicLayers": false,
 "layers": [
  {
   "id": 0,
   "name": "Ambiti_amministrativi",
   "parentLayerId": -1,
   "defaultVisibility": true,
   "subLayerIds": null,
   "minScale": 750000,
   "maxScale": 0
  }
 ],
 "tables": [],
 "spatialReference": {
  "wkid": 32632,
  "latestWkid": 32632
 },
 "singleFusedMapCache": true,
 "tileInfo": {
  "rows": 256,
  "cols": 256,
  "dpi": 96,
  "format": "PNG8",
  "compressionQuality": 0,
  "origin": {
   "x": -5120900,
   "y": 9998100
  },
  "spatialReference": {
   "wkid": 32632,
   "latestWkid": 32632
  },
  "lods": [
   {
    "level": 0,
    "resolution": 33.0729828126323,
    "scale": 125000
   },
   {
    "level": 1,
    "resolution": 16.933367200067735,
    "scale": 64000
   },
   {
    "level": 2,
    "resolution": 8.466683600033868,
    "scale": 32000
   },
   {
    "level": 3,
    "resolution": 4.233341800016934,
    "scale": 16000
   },
   {
    "level": 4,
    "resolution": 2.6458386250105836,
    "scale": 10000
   },
   {
    "level": 5,
    "resolution": 1.3229193125052918,
    "scale": 5000
   },
   {
    "level": 6,
    "resolution": 0.5291677250021167,
    "scale": 2000
   },
   {
    "level": 7,
    "resolution": 0.26458386250105836,
    "scale": 1000
   },
   {
    "level": 8,
    "resolution": 0.13229193125052918,
    "scale": 500
   }
  ]
 },
 "initialExtent": {
  "xmin": 439066.8047089571,
  "ymin": 4987402.239322809,
  "xmax": 564954.0047910429,
  "ymax": 5024289.540821788,
  "spatialReference": {
   "wkid": 32632,
   "latestWkid": 32632
  }
 },
 "fullExtent": {
  "xmin": 460681.34609999973,
  "ymin": 4947364.1006000005,
  "xmax": 543339.4633999998,
  "ymax": 5026697.6807,
  "spatialReference": {
   "wkid": 32632,
   "latestWkid": 32632
  }
 },
 "minScale": 125000,
 "maxScale": 500,
 "units": "esriMeters",
 "supportedImageFormatTypes": "PNG32,PNG24,PNG,JPG,DIB,TIFF,EMF,PS,PDF,GIF,SVG,SVGZ,BMP",
 "documentInfo": {
  "Title": "",
  "Author": "",
  "Comments": "Ambiti amministrativi Provincia di Pavia",
  "Subject": "Ambiti amministrativi Provincia di Pavia",
  "Category": "",
  "AntialiasingMode": "None",
  "TextAntialiasingMode": "Force",
  "Keywords": "confini"
 },
 "capabilities": "Map,Query,Data",
 "supportedQueryFormats": "JSON, AMF, geoJSON",
 "exportTilesAllowed": false,
 "datumTransformations": [
  {
   "geoTransforms": [
    {
     "wkid": 108001,
     "latestWkid": 1241,
     "transformForward": true,
     "name": "NAD_1927_To_NAD_1983_NADCON"
    }
   ]
  },
  {
   "geoTransforms": [
    {
     "wkid": 108001,
     "latestWkid": 1241,
     "transformForward": false,
     "name": "NAD_1927_To_NAD_1983_NADCON"
    }
   ]
  }
 ],
 "supportsDatumTransformation": true,
 "maxRecordCount": 1000,
 "maxImageHeight": 4096,
 "maxImageWidth": 4096,
 "supportedExtensions": ""
}
