{
 "currentVersion": 10.51,
 "serviceDescription": "",
 "mapName": "Layers",
 "description": "",
 "copyrightText": "",
 "supportsDynamicLayers": false,
 "layers": [
  {
   "id": 0,
   "name": "Modifica Linea IC",
   "parentLayerId": -1,
   "defaultVisibility": true,
   "subLayerIds": null,
   "minScale": 250000,
   "maxScale": 0
  },
  {
   "id": 1,
   "name": "Grandi funzioni",
   "parentLayerId": -1,
   "defaultVisibility": true,
   "subLayerIds": null,
   "minScale": 250000,
   "maxScale": 0
  },
  {
   "id": 2,
   "name": "Servizi previsti",
   "parentLayerId": -1,
   "defaultVisibility": true,
   "subLayerIds": null,
   "minScale": 250000,
   "maxScale": 0
  },
  {
   "id": 3,
   "name": "Ampliam depuratore",
   "parentLayerId": -1,
   "defaultVisibility": true,
   "subLayerIds": null,
   "minScale": 250000,
   "maxScale": 0
  },
  {
   "id": 4,
   "name": "Distretto scienza",
   "parentLayerId": -1,
   "defaultVisibility": true,
   "subLayerIds": null,
   "minScale": 250000,
   "maxScale": 0
  },
  {
   "id": 5,
   "name": "PIP",
   "parentLayerId": -1,
   "defaultVisibility": true,
   "subLayerIds": null,
   "minScale": 250000,
   "maxScale": 0
  },
  {
   "id": 6,
   "name": "DUC",
   "parentLayerId": -1,
   "defaultVisibility": true,
   "subLayerIds": null,
   "minScale": 250000,
   "maxScale": 0
  },
  {
   "id": 7,
   "name": "Bosco di cintura",
   "parentLayerId": -1,
   "defaultVisibility": true,
   "subLayerIds": null,
   "minScale": 250000,
   "maxScale": 0
  },
  {
   "id": 8,
   "name": "Vie d'acqua",
   "parentLayerId": -1,
   "defaultVisibility": true,
   "subLayerIds": null,
   "minScale": 250000,
   "maxScale": 0
  },
  {
   "id": 9,
   "name": "Sistema mobilità",
   "parentLayerId": -1,
   "defaultVisibility": true,
   "subLayerIds": null,
   "minScale": 250000,
   "maxScale": 0
  },
  {
   "id": 10,
   "name": "Criticità viabilità",
   "parentLayerId": -1,
   "defaultVisibility": true,
   "subLayerIds": null,
   "minScale": 250000,
   "maxScale": 0
  },
  {
   "id": 11,
   "name": "Collegamenti",
   "parentLayerId": -1,
   "defaultVisibility": true,
   "subLayerIds": null,
   "minScale": 250000,
   "maxScale": 0
  },
  {
   "id": 12,
   "name": "Sede stradale",
   "parentLayerId": -1,
   "defaultVisibility": true,
   "subLayerIds": null,
   "minScale": 250000,
   "maxScale": 0
  },
  {
   "id": 13,
   "name": "Mobilità dolce",
   "parentLayerId": -1,
   "defaultVisibility": true,
   "subLayerIds": null,
   "minScale": 250000,
   "maxScale": 0
  },
  {
   "id": 14,
   "name": "Sistema sosta",
   "parentLayerId": -1,
   "defaultVisibility": true,
   "subLayerIds": null,
   "minScale": 250000,
   "maxScale": 0
  },
  {
   "id": 15,
   "name": "Mobilità su ferro",
   "parentLayerId": -1,
   "defaultVisibility": true,
   "subLayerIds": null,
   "minScale": 250000,
   "maxScale": 0
  },
  {
   "id": 16,
   "name": "AreeTrasformazione",
   "parentLayerId": -1,
   "defaultVisibility": true,
   "subLayerIds": null,
   "minScale": 250000,
   "maxScale": 0
  },
  {
   "id": 17,
   "name": "ERP_AS1 ex Neca",
   "parentLayerId": -1,
   "defaultVisibility": true,
   "subLayerIds": null,
   "minScale": 250000,
   "maxScale": 0
  },
  {
   "id": 18,
   "name": "AC",
   "parentLayerId": -1,
   "defaultVisibility": true,
   "subLayerIds": null,
   "minScale": 250000,
   "maxScale": 0
  },
  {
   "id": 19,
   "name": "AreeTrasformazione",
   "parentLayerId": -1,
   "defaultVisibility": true,
   "subLayerIds": null,
   "minScale": 250000,
   "maxScale": 0
  },
  {
   "id": 20,
   "name": "Urbanizzato",
   "parentLayerId": -1,
   "defaultVisibility": true,
   "subLayerIds": null,
   "minScale": 250000,
   "maxScale": 0
  },
  {
   "id": 21,
   "name": "Urbanizzato",
   "parentLayerId": -1,
   "defaultVisibility": true,
   "subLayerIds": null,
   "minScale": 250000,
   "maxScale": 0
  },
  {
   "id": 22,
   "name": "Produttivo/Commerciale",
   "parentLayerId": -1,
   "defaultVisibility": true,
   "subLayerIds": null,
   "minScale": 250000,
   "maxScale": 0
  },
  {
   "id": 23,
   "name": "Beni Vincolati",
   "parentLayerId": -1,
   "defaultVisibility": true,
   "subLayerIds": null,
   "minScale": 250000,
   "maxScale": 0
  },
  {
   "id": 24,
   "name": "Cascine",
   "parentLayerId": -1,
   "defaultVisibility": true,
   "subLayerIds": null,
   "minScale": 250000,
   "maxScale": 0
  },
  {
   "id": 25,
   "name": "Ambiti storici",
   "parentLayerId": -1,
   "defaultVisibility": true,
   "subLayerIds": null,
   "minScale": 250000,
   "maxScale": 0
  },
  {
   "id": 26,
   "name": "Servizi e Impianti",
   "parentLayerId": -1,
   "defaultVisibility": true,
   "subLayerIds": null,
   "minScale": 250000,
   "maxScale": 0
  },
  {
   "id": 27,
   "name": "Servizi e Impianti",
   "parentLayerId": -1,
   "defaultVisibility": true,
   "subLayerIds": null,
   "minScale": 250000,
   "maxScale": 0
  },
  {
   "id": 28,
   "name": "Servizi e Impianti",
   "parentLayerId": -1,
   "defaultVisibility": true,
   "subLayerIds": null,
   "minScale": 250000,
   "maxScale": 0
  },
  {
   "id": 29,
   "name": "Servizi e Impianti",
   "parentLayerId": -1,
   "defaultVisibility": true,
   "subLayerIds": null,
   "minScale": 250000,
   "maxScale": 0
  },
  {
   "id": 30,
   "name": "Ambiti agricoli",
   "parentLayerId": -1,
   "defaultVisibility": true,
   "subLayerIds": null,
   "minScale": 250000,
   "maxScale": 0
  },
  {
   "id": 31,
   "name": "Aree di valore paesaggistico ambientale",
   "parentLayerId": -1,
   "defaultVisibility": true,
   "subLayerIds": null,
   "minScale": 250000,
   "maxScale": 0
  },
  {
   "id": 32,
   "name": "Aree NST",
   "parentLayerId": -1,
   "defaultVisibility": true,
   "subLayerIds": null,
   "minScale": 250000,
   "maxScale": 0
  },
  {
   "id": 33,
   "name": "Aree R/D/RIR",
   "parentLayerId": -1,
   "defaultVisibility": true,
   "subLayerIds": null,
   "minScale": 250000,
   "maxScale": 0
  },
  {
   "id": 34,
   "name": "Parco Regionale",
   "parentLayerId": -1,
   "defaultVisibility": true,
   "subLayerIds": null,
   "minScale": 250000,
   "maxScale": 0
  },
  {
   "id": 35,
   "name": "Parco Naturale",
   "parentLayerId": -1,
   "defaultVisibility": true,
   "subLayerIds": null,
   "minScale": 250000,
   "maxScale": 0
  },
  {
   "id": 36,
   "name": "Svincoli",
   "parentLayerId": -1,
   "defaultVisibility": true,
   "subLayerIds": null,
   "minScale": 250000,
   "maxScale": 0
  },
  {
   "id": 37,
   "name": "Confine Comunale",
   "parentLayerId": -1,
   "defaultVisibility": true,
   "subLayerIds": null,
   "minScale": 250000,
   "maxScale": 0
  },
  {
   "id": 38,
   "name": "Linea IC",
   "parentLayerId": -1,
   "defaultVisibility": true,
   "subLayerIds": null,
   "minScale": 250000,
   "maxScale": 0
  }
 ],
 "tables": [],
 "spatialReference": {
  "wkid": 32632,
  "latestWkid": 32632
 },
 "singleFusedMapCache": true,
 "tileInfo": {
  "rows": 256,
  "cols": 256,
  "dpi": 96,
  "format": "MIXED",
  "compressionQuality": 75,
  "origin": {
   "x": -5120900,
   "y": 9998100
  },
  "spatialReference": {
   "wkid": 32632,
   "latestWkid": 32632
  },
  "lods": [
   {
    "level": 0,
    "resolution": 33.0729828126323,
    "scale": 125000
   },
   {
    "level": 1,
    "resolution": 16.933367200067735,
    "scale": 64000
   },
   {
    "level": 2,
    "resolution": 8.466683600033868,
    "scale": 32000
   },
   {
    "level": 3,
    "resolution": 4.233341800016934,
    "scale": 16000
   },
   {
    "level": 4,
    "resolution": 2.6458386250105836,
    "scale": 10000
   },
   {
    "level": 5,
    "resolution": 1.3229193125052918,
    "scale": 5000
   },
   {
    "level": 6,
    "resolution": 0.5291677250021167,
    "scale": 2000
   },
   {
    "level": 7,
    "resolution": 0.26458386250105836,
    "scale": 1000
   },
   {
    "level": 8,
    "resolution": 0.13229193125052918,
    "scale": 500
   }
  ]
 },
 "initialExtent": {
  "xmin": 506369.8520339951,
  "ymin": 5002462.969041457,
  "xmax": 518293.27649320196,
  "ymax": 5009722.133794859,
  "spatialReference": {
   "wkid": 32632,
   "latestWkid": 32632
  }
 },
 "fullExtent": {
  "xmin": 507085.03000000026,
  "ymin": 5000014.381999999,
  "xmax": 518924.8213999998,
  "ymax": 5009017.418500001,
  "spatialReference": {
   "wkid": 32632,
   "latestWkid": 32632
  }
 },
 "minScale": 125000,
 "maxScale": 500,
 "units": "esriMeters",
 "supportedImageFormatTypes": "PNG32,PNG24,PNG,JPG,DIB,TIFF,EMF,PS,PDF,GIF,SVG,SVGZ,BMP",
 "documentInfo": {
  "Title": "",
  "Author": "",
  "Comments": "",
  "Subject": "PGT DdP",
  "Category": "",
  "AntialiasingMode": "None",
  "TextAntialiasingMode": "Force",
  "Keywords": "pavia"
 },
 "capabilities": "Map,Query,Data",
 "supportedQueryFormats": "JSON, AMF, geoJSON",
 "exportTilesAllowed": false,
 "supportsDatumTransformation": true,
 "maxRecordCount": 1000,
 "maxImageHeight": 4096,
 "maxImageWidth": 4096,
 "supportedExtensions": ""
}
